BEGIN:VCALENDAR
VERSION:2.0
PRODID:-//City of Holbrook - ECPv6.15.20//NONSGML v1.0//EN
CALSCALE:GREGORIAN
METHOD:PUBLISH
X-WR-CALNAME:City of Holbrook
X-ORIGINAL-URL:https://holbrookaz.gov
X-WR-CALDESC:Events for City of Holbrook
REFRESH-INTERVAL;VALUE=DURATION:PT1H
X-Robots-Tag:noindex
X-PUBLISHED-TTL:PT1H
BEGIN:VTIMEZONE
TZID:UTC
BEGIN:STANDARD
TZOFFSETFROM:+0000
TZOFFSETTO:+0000
TZNAME:UTC
DTSTART:20250101T000000
END:STANDARD
END:VTIMEZONE
BEGIN:VEVENT
DTSTART;TZID=UTC:20260311T180000
DTEND;TZID=UTC:20260311T190000
DTSTAMP:20260421T213956
CREATED:20260306T175157Z
LAST-MODIFIED:20260306T175157Z
UID:2876-1773252000-1773255600@holbrookaz.gov
SUMMARY:City Council Meeting
DESCRIPTION:The City of Holbrook’s City Council Meeting is a public session held to discuss and decide on municipal matters\, including budgets\, policies\, ordinances\, and community initiatives. These meetings provide a platform for residents to engage with council members\, voice concerns\, and stay informed about city governance. The meeting agenda is available for public review by clicking the button below.
URL:https://holbrookaz.gov/event/city-council-meeting-10/
LOCATION:City Hall\, 465 N 1st Ave\, Holbrook\, AZ\, 86025\, United States
CATEGORIES:City Council Meeting
ORGANIZER;CN="City Of Holbrook":MAILTO:holbrookcity@holbrookaz.gov
END:VEVENT
END:VCALENDAR